Workbook

Sheet Ohje
A1: Työkalun taustaa
A3: Seuraavat välilehdet muodostavat organisaation kestävyyden nykytilan arviointityökalun. Kestävyyden arviointityökalun kehittämisessä on hyödynnetty Euroopan kestävyysraportointistandardia (EU 2023/2772) sekä muita yleisesti tunnettuja kehittämisen ja arvioinnin työkaluja, kuten julkisen sektorin CAF-laatumallia ja VM:n sisäisen valvonnan ja riskienhallinnan arviointikehikkoa. Kestävyyden arviointityökalu on suunnattu erityisesti julkisen sektorin kestävyystyön kehittämisen tueksi.
A5: Työkalun esittely
A7: Nykytilan arviointi toteutetaan kestävyyden arviointityökalun avulla. Työkalu koostuu kolmesta pääteemasta: Hallinto ja johtaminen, Työntekijät ja sidosryhmät, Luonnonvarat ja ekosysteemit. Jokaiseen pääteemaan sisältyy aihealueita, joiden mukaisesti nykytilan vahvuuksia ja kehittämisalueita tunnistetaan. Samalla arvioidaan myös jokaisen pääosion alakohtien olennaisuutta ja kypsyyttä.
A8: Kestävyysarviointia voi toteuttaa eri näkökulmista ja eri skaaloilla: arvioimalla esimerkiksi tietyn toiminnon tai vastuualueen osalta kaikki pääteemat tai keskittymällä organisaation tai toiminnon näkökulmasta yhteen valittuun päätemaan. Exceliä ei ole välttämätöntä näyttää sellaisenaan arviointia tekevälle ryhmälle, vaan sieltä voi esimerkiksi poimia teemoja ja apukysymyksiä ryhmän kanssa keskusteltavaksi tai excelin "täyttämisen" voi toteuttaa esim. Webropol-kyselynä. Kestävyysarvioinnin tuloksena organisaatiolle tai sen osalle muodostuu ajantasainen ja perusteltu näkymä kypsyystasosta, jo tehdyistä toimenpiteistä, mittareista sekä tunnistetuista kehittämiskohteista ja toimenpide-ehdotuksista organisaation tekemällä rajauksella. Arvioinnin tuloksena syntyy myös visuaalinen kooste eri osa-alueiden kypsyystasoista.
A32: Täytön ohjeistus
A34: Arviointityökalussa arvioidaan niitä asioita, joihin organisaatio voi omalla toiminnallaan vaikuttaa. Vaikutus voi olla positiivista tai negatiivista. Kunkin pääteeman osalta tarkastelkaa ensin, miten olennainen (sarake A Olennaisuus) aihealue on oman toiminnan kannalta asteikolla 1–4. Olennaisuuden arvioinnissa: 1 = Ei olennainen asia omaa toimintaa koskien 2 = Hieman olennainen asia tai ei vielä hyvää käsitystä asian olennaisuudesta 3 = Olennainen asia toiminnalle 4 = Erittäin olennainen asia toiminnalle/osa toimintaa Arvioiva organisaatio on voinut etukäteen kirjata sarakkeeseen D aihealueeseen liittyviä linjauksia ja tavoitteita sekä tunnistaa sarakkeisiin E ja F toimenpiteitä ja mittareita. Muita muistiinpanoja, kuten tunnistettuja kehityskohteita, käynnissä olevia toimenpiteitä tai jatkotoimenpide-ehdotuksia voi kirjata sarakkeeseen G Muistiinpanot. Arvioinnissa edellä mainitut sarakkeet on hyvä käydä läpi aihealueisiin sisältyvien sarakkeessa C olevien apukysymysten kautta ja kirjata muistiin mahdolliset havainnot. Lista apukysymyksistä ei ole tyhjentävä, vaan sen tarkoituksena on herätellä ajatuksia aihealueeseen liittyen. Apukysymysten läpikäynnin jälkeen on perusteet arvioida, kuinka kypsää organisaation toiminta aihealueen suhteen on (sarake H Kypsyys), eli miten hyvin aihe on otettu huomioon toiminnassa asteikolla 1–4. Kypsyyden arvioinnissa: 1 = ei huomioitu toiminnassa 2 = huomioitu hieman toiminnassa 3 = huomioitu toiminnassa 4 = huomioitu kattavasti toiminnassa Huom! Olennaisuus ja kypsyys arvioidaan aihealueittain, ei apukysymyksittäin. Kaikki apukysymykset eivät välttämättä ole organisaation kannalta relevantteja, ja sellaiset voi jättää huomiotta. Joissakin soluissa on punainen kolmio oikeassa yläkulmassa. Lisätietoja näistä soluista aukeaa muistilapulla laittamalla hiiri tällaisten solujen päälle. Sarakkeesta I löytyy tarkasteltavaan aiheeseen liittyvä strategia- ja ohjausperusta ja sarakkeesta J lakiperusta. Listaus ei ole kattava, vaan esimerkinomainen.
A37: Lopputulos
A39: Kun valitut pääteemat (Hallinto ja johtaminen, Työntekijät ja sidosryhmät, Luonnonvarat ja ekosysteemit) tai osa niistä on arvioitu, piirtyy arvioiduista pääteemoista tulosmatriisit omille välilehdilleen. Matriisissa pystyakselilla on kypsyys ja vaaka-akselilla olennaisuus. Värikoodi auttaa tunnistamaan, mitkä aihealueet ovat vahvuuksia (vihreä), missä voisi olla vielä kehitettävää (keltainen) ja mitkä ovat priorisoitavia kehityskohteita (punainen). Matriiseista saa hyvää perustelumateriaalia toiminnan kehittämiselle ja linjausten sekä tavoitteiden suunnittelulle.

Sheet Esimerkkivälilehti
A1: Esimerkkitäyttö pääteemalle luonnonvarat ja ekosysteemit toimitilojen näkökulmasta
B2: Luonnonvarat ja ekosysteemit | D2: Toimintaperiaatteet aiheeseen liittyen
A3: Olennaisuus | B3: Aihealue | C3: Kypsyysarvioinnin apukysymykset | D3: Omat linjaukset, asetetut tavoitteet | E3: Toimenpiteet | F3: Mittarit | G3: Muistiinpanot | H3: Kypsyys | I3: Konserniohjaus tai poikkihallinnolliset strategiat | J3: Lakiperusta
A4: 3 | B4: Ilmastonmuutos | H4: 2
C5: Hillintä Mitä toimia organisaatio on tehnyt lämpenemisen hillitsemiseksi 1,5 asteeseen? Miten energiahankinnoissa on otettu huomioon vähäpäästöisyys? | D5: Toimitilastrategia: Tavoitteena 2030 mennessä vähentää toimistotiloja 25% | E5: Pasilan tilatiivistyshanke | F5: 10m2/htv tavoite toimistotiloissa | I5: Valtion toimitilastrategia | J5: Ilmastolaki, Valtioneuvoston asetus moottorikäyttöisten ajoneuvojen joutokäynnin rajoittamisesta
D6: Toimitilastrategia: Fossiilivapaiden energiamuotojen lisäys | E6: Uusissa hankkeissa otetaan huomioon, aurinkopaneeleja lisätty. Vanhoissa kiinteistöissä ollaan omistajan ratkaisuiden varassa. | F6: Ei omaa seurantaa. | G6: Huomioitu Senaatin vastuullisuustavoitteissa. Käydään läpi kaikissa toimitilahankkeissa. Senaatin tavoitteena hiilineutraalit valtion kiinteistöt 2035. | I6: Valtion toimitilastrategia | J6: Ilmastolaki, Valtioneuvoston asetus moottorikäyttöisten ajoneuvojen joutokäynnin rajoittamisesta
C7: Sopeutuminen ja varautuminen Mitä toimia organisaatio on tehnyt, joilla sopeudutaan nykyiseen ja odotettavissa olevaan ilmastonmuutokseen? Miten ilmastonmuutos on otettu huomioon organisaation valmius- ja varautumissuunnitelmassa? | D7: Toimitilastrategia: Senaatilla on sopeutumissuunnitelma, organisaatiolla itsellään ei. | E7: Ei omia toimenpiteitä. | G7: On hyvä ottaa huomioon myös omassa organisaatiossa. | I7: Valtion toimitilastrategia | J7: Ilmastolaki, Laki tulvariskien hallinnasta
A8: 1 | B8: Pilaantuminen | H8: 1
C9: Vesi, ilma ja maaperä Mitä organisaatiossa on tehty ilmaan, veteen tai maaperään liittyvien epäpuhtauksien ehkäisemiseksi, rajoittamiseksi tai vähentämiseksi? | D9: Toimitilastrategia | E9: Tarkastuskentät ja niiden rakenteet. Esim. tyhjäkäynti kielletty, maaperän ja veden suojelu alueella | F9: Ympäristöön liittyvien vahinkojen ja läheltä piti -tapahtumien seuranta, ennaltaehkäisy ja niistä opiksi ottaminen. | J9: Ympäristönsuojelulaki, Valtioneuvoston asetus ympäristönsuojelusta, Luonnonsuojelulaki, Jätelaki, Valtioneuvoston asetus jätteistä, Kemikaalilaki, REACH-asetus, Valtioneuvoston asetus vaarallisten kemikaalien käsittelyn ja varastoinnin valvonnasta, Valtioneuvoston päätös otsonikerrosta heikentävistä aineista, Valtioneuvoston asetus moottorikäyttöisten ajoneuvojen joutokäynnin rajoittamisesta
D10: Toimitilastrategia: Pilaantumisen estämisen huomioiminen toimitiloissa | E10: Autonpesupaikat huomioitu Senaatin toimesta. Tarkastuskentillä ja niiden rakenteissa otettu huomioon, esim. tyhjäkäynti kielletty. Vahingon leviämisen ehkäisyvälineet, kuten imeytysaineet sijoitettu riskikohteisiin. | F10: Ehkäisy- ja torjuntavälineistön ylläpitolistan läpikäynti joka toinen vuosi. | J10: Ympäristönsuojelulaki, Valtioneuvoston asetus ympäristönsuojelusta, Luonnonsuojelulaki, Jätelaki, Valtioneuvoston asetus jätteistä, Kemikaalilaki, REACH-asetus, Valtioneuvoston asetus vaarallisten kemikaalien käsittelyn ja varastoinnin valvonnasta, Valtioneuvoston päätös otsonikerrosta heikentävistä aineista, Valtioneuvoston asetus moottorikäyttöisten ajoneuvojen joutokäynnin rajoittamisesta
C11: Mikromuovi Miten organisaatiossa on otettu huomioon ja mitä toimia on tehty mikromuovin syntymisen, käyttämisen ja luontoon tai organismeihin päätymisen ehkäisemiseksi ja rajaamiseksi? | D11: Toimitilastrategia: Pilaantumisen estämisen huomioiminen toimitiloissa | E11: Asiakaspalvelupaikoilla ja tarkastuskentillä kannelliset roska-astiat tarjolla, jotta vältytään roskien päätymiseltä luontoon. | G11: Keväisin siivoustalkoot? | J11: Ympäristönsuojelulaki
A12: 1 | B12: Vesivarat ja merten luonnonvarat | H12: 3
C13: Vesivarat ja merten luonnonvarat Mitä toimia on tehty vesivaroihin kohdistuvien kielteisten vaikutusten ehkäisemiseksi tai lieventämiseksi? Mitä toimia on tehty vesivarojen ja merten luonnonvarojen suojelemiseksi, myös vedenkulutuksen vähentämisen osalta? | D13: Toimitilastrategia | E13: Hanoja vaihdetaan automaattisiin sitä mukaa, kun ne tulevat käyttöikänsä päähän. Organisaation autojen pesussa siirrytään ulkoiseen palveluun, eli pesukatujen käyttöön. Säästyy vettä, eikä tarvitse ostaa omia kemikaaleja. | F13: Pesukatuihin siirtymisen %-osuus | J13: Ympäristönsuojelulaki, Valtioneuvoston asetus ympäristönsuojelusta, Kemikaalilaki
A14: 3 | B14: Biologinen monimuotoisuus ja ekosysteemit | H14: 3
C15: Luonnon monimuotoisuus Mitä toimia organisaatio on tehnyt monimuotoisuuden heikentymisen ehkäisemiseksi tai suojelemiseksi? Mitä toimia organisaatio on tehnyt lajien tilan parantamiseksi, tai tilan huononemisen ehkäisemiseksi? Mitä toimia organisaatio on tehnyt ekosysteemien laajuuden ja tilan huononemisen ehkäisemiseksi, vähentämiseksi tai suojelemiseksi? | D15: Toimitilastrategia | E15: Viherkatot uudiskohteisiin, nurmikon sijaan suositaan niittyjä, jotka ovat myös hoidoltaan kevyempiä kuin nurmikko, jätetään lahopuuta tontille. Toimistokaluste yms. hankinnoissa sertifioidut esim. PEFC-tuotteet. | F15: Hankintojen ympäristökriteeri-% | G15: Viherkerroin tai vastaava avuksi tontteihin liittyvään monimuotoisuuden edistämiseen? | J15: Ympäristönsuojelulaki
C16: Ekosysteemipalvelut Mitä toimia organisaatio on tehnyt ekosysteemipalveluiden heikkenemisen ehkäisemiseksi, vähentämiseksi tai suojelemiseksi? | D16: Toimitilastrategia: Uudiskohteiden kohdalla otetaan huomioon ekologisesti herkät alueet | E16: Ei tarkempia toimenpiteitä, tarkastellaan kohde kerrallaan. | G16: Uudiskohteita ja isompaa rakentamista harvoin, mutta asia tärkeä niissä kohteissa. | I16: Valtion toimitilastrategia | J16: Ympäristönsuojelulaki
A17: 4 | B17: Kiertotalous | H17: 2
C18: Materiaalin käyttö Mitä tavoitteita ja toimia organisaatiolla on, joilla ehkäistään tai lievennetään materiaalin käytöstä aiheutuvia kielteisiä vaikutuksia? | D18: Toimitilastrategia: Jokaisen hankkeen osalta tarkastellaan kalusteiden ja ergonimiavälineiden kierrätysmahdollisuutta toiseen toimitilaan tai toiselle toimijalle. | E18: Oma hyödyntäminen tai toisille valtion toimijoille tarjoaminen | F18: Kierrätys-% | G18: Valtion sisällä voi luovuttaa esim. toiselle virastolle kalusteita | I18: Valtion toimitilastrategia | J18: Jätelaki, Maankäyttö- ja rakennusasetus
C19: Tuotteet ja palvelut Mitä tavoitteita ja toimia organisaatiolla on, joilla ehkäistään tai lievennetään resurssien käytöstä aiheutuvia kielteisiä vaikutuksia? | D19: Linjaus ympäristökriteereistä toimitilahankinnoissa | E19: Käytetään sertifioituja tuotteita, kuten PEFC-sertifioituja puutuotteita, hankitaan tuotteita palveluna mahdollisuuksien mukaan. | J19: Jätelaki, Maankäyttö- ja rakennusasetus
C20: Jäte Kuinka jätehierarkia otetaan huomioon omassa toiminnassa ja hankinnoissa? Jätehierarkiassa noudatetaan seuraavaa järjestystä: 1. Ennaltaehkäistään tai minimoidaan jätteen synty. 2. Syntynyt jäte uudelleenkäytetään. 3. Syntynyt jäte kierrätetään. 4. Syntynyt jäte energiahyödynnetään. 5. Syntynyt jäte loppusijoitetaan. Ota huomioon myös vaarallisten jätteiden oikeaoppinen hävitys. | D20: Ekokompassi-ympäristöjärjestelmä: Lajittelutavoitteet ja kierrätysasteen nostaminen. Toimitilastrategia: Jätteiden lajittelun parantaminen | E20: Lajittelumahdollisuuksien lisääminen toimitiloihin. | F20: Jätehuoltosuunnitelmat koottu toimipaikoittain koontiexceliin. Niiden koontitaulukosta näkee lajittelun tilan liikennevalovärein. | G20: Rajaseudulla ja Lapissa rajatut mahdollisuudet. | I20: Jätelainsäädäntö, Valtion toimitilastrategia | J20: Jätelaki, Valtioneuvoston asetus jätteistä
C25: Arvioinnin perusteella muodostuva tulosmatriisi

Sheet Hallinto ja johtaminen
B1: Hallinto ja johtaminen | D1: Toimintaperiaatteet aiheeseen liittyen
A2: Olennaisuus | B2: Aihealue | C2: Kypsyysarvioinnin apukysymykset | D2: Omat linjaukset, asetetut tavoitteet | E2: Toimenpiteet | F2: Mittarit | G2: Muistiinpanot | H2: Kypsyys | I2: Konserniohjaus, strategiat yms. | J2: Lakiperusta
B3: Johtaminen ja organisaatiokulttuuri
C4: Johtajuus Miten organisaatiossa tuetaan esimerkillistä, ammattimaista, tietoon perustuvaa, suuntaa näyttävää ja merkityksellisyyttä tuottavaa johtajuutta? Kuinka tuetaan kestävää esihenkilötyötä? Miten organisaatiorakenne, tehtävät ja vastuut on määritelty ja kommunikoitu? | I4: Valtioneuvoston periaatepäätös julkisesta johtamisesta (VN 2026:10), Yhdessä johtajina demokratian ja kansallisen menestyksen puolesta: Julkisen johtamisen arvot ja periaatteet (VN 2025:27), Valtion henkilöstöstrategia 2030, Avoimen hallinnon strategia | J4: Hallintolaki, Valtion virkamieslaki, Virkamiesasetus, Asetus valtion talousarviosta, Laki valtion talousarviosta
C5: Organisaatiokulttuuri Miten organisaatio on kehittänyt organisaatiokulttuuriaan? Miten organisaatiokulttuurin tilaa seurataan ja arvioidaan? | I5: Yhdessä johtajina demokratian ja kansallisen menestyksen puolesta: Julkisen johtamisen arvot ja periaatteet (VN 2025:27), Valtioneuvoston periaatepäätös julkisesta johtamisesta (VN 2026:10) | J5: Hallintolaki, Tasa-arvolaki, Yhdenvertaisuuslaki
C6: Turvallisuus, valmius ja varautuminen Kuinka organisaatio on varautunut turvaamaan yhteiskunnan välttämättömät toiminnot häiriötilanteissa tai kriiseissä? Miten organisaatio on tunnistanut kriittiset suojattavat kohteet? Miten organisaation toiminta linkittyy yhteiskunnan turvallisuusstrategiaan? Miten organisaatio harjoittelee? | I6: Yhteiskunnan turvallisuusstrategia, Yhdessä johtajina demokratian ja kansallisen menestyksen puolesta: Julkisen johtamisen arvot ja periaatteet (VN 2025:27) | J6: Valmiuslaki Laki julkisen hallinnon turvallisuusverkkotoiminnasta
B7: Resurssien tehokas ja kestävä käyttö
C8: Tulosvastuu ja tilivelvollisuus Miten organisaatio suunnittelee, toteuttaa ja seuraa tavoitteitaan ja raportoi niistä? Miten organisaatio seuraa toimintaympäristön muutoksia sekä suunnittelee toimintaa pidemmällä ja lyhyemmällä aikajänteellä? | I8: Hallitusohjelma, Taloussäännön laatiminen ja päivittäminen (VK/75616/00.00.00.01/2023), Julkisen talouden suunnitelma, Talousarvioehdotus, Tulostavoitesopimus, Valtioneuvoston periaatepäätös julkisesta johtamisesta (VN 2026:10), Yhdessä johtajina demokratian ja kansallisen menestyksen puolesta: Julkisen johtamisen arvot ja periaatteet (VN 2025:27), Valtion henkilöstöstrategia 2030, Julkisen hallinnon strategia, Valtion matkustusstrategia | J8: Laki valtion talousarviosta, Asetus valtion talousarviosta (1243/1992): 55 § tuloksellisuuden seuranta.
C9: Henkilöstövoimavarojen suunnittelu ja kehittäminen Miten organisaatio varmistaa, että henkilöstö on osaavaa ja voi hyvin, ja että osaaminen on joustavasti käytettävissä ja vastaa toimintayksikön tarpeita? Miten organisaatio varmistaa tuloksellisen toiminnan edellyttämän osaamisen hankinnan, kehittämisen ja johtamisen? | I9: Valtion henkilöstöstrategia 2030, Yhdessä johtajina demokratian ja kansallisen menestyksen puolesta: Julkisen johtamisen arvot ja periaatteet (VN 2025:27), Julkisen hallinnon strategia | J9: Valtion virkamieslaki
B10: Sisäinen valvonta ja riskienhallinta
C11: Sisäisen valvonnan ja riskienhallinnan toteuttaminen Miten organisaatio varmistaa hallinnon lainmukaisuuden, vastuullisuuden ja riittävän avoimuuden sekä tulostietojen oikeellisuuden ja asianmukaisen sisäisen valvonnan ja riskienhallinnan? | I11: VK:n ohje tilinpäätöksen laatimisesta, Sisäinen valvonta valtionhallinnossa (VM 2024:50), Riskienhallinnan käsikirja valtiohallinnon toimijoille (VM 2023:54) | J11: Laki valtion talousarviosta, Asetus valtion talousarviosta
C12: Sisäiset arvioinnit ja auditoinnit Minkälaisilla sisäisillä arvioinneilla ja auditoinneilla organisaatio arvioi ja kehittää toimintaansa? Miten arviointien tulokset on käsitelty ja otettu huomioon toiminnan kehittämisessä? | I12: Sisäisen tarkastuksen ohjesääntö, Yhdessä johtajina demokratian ja kansallisen menestyksen puolesta: Julkisen johtamisen arvot ja periaatteet (VN 2025:27) | J12: Asetus valtion talousarviosta
C13: Ulkopuoliset arvioinnit ja auditoinnit Mitä ulkopuolisia arviointeja (kuten VTV:n tarkastukset) organisaatioon on kohdistunut? Mitä ulkopuolisia arviointeja organisaatio on itse hankkinut (esim. erilaiset sertifioinnit)? Miten arviointien tulokset on käsitelty ja otettu huomioon toiminnan kehittämisessä? | J13: Perustuslaki yms. Lakisääteisten tarkastusten pohjana
B14: Avoin hallinto
C15: Osallisuus ja saavutettavuus Kenellä on mahdollisuus osallistua asioiden valmisteluun ja kehittämiseen? Miten organisaatio varmistaa, että organisaation tekstit, ohjeet, palvelut ja uudistukset ovat selkeitä ja ymmärrettäviä? Mitä toimia on tehty selkokielisyyden lisäämiseksi? | I15: Avoimen hallinnon strategia, Julkisen hallinnon strategia, Yhdenvertaisuuslaki, Kestävän kehityksen toimikunnan strategia 2022–2030 | J15: Perustuslaki (731/1999): oikeusvaltioperiaate (laillisuusperiaate), Hallintolaki
C16: Avoin toiminta Miten organisaatio kertoo kansalaisille toiminnastaan? Onko se avoin uusille ideoille, vaatimuksille ja tarpeille? Miten se käy vuoropuhelua asiakkaiden, kansalaisyhteiskunnan (kuten järjestöt) ja sidosryhmien kanssa? Miten julkisuusperiaatetta toteutetaan? | I16: Avoimen hallinnon strategia, Julkisen hallinnon strategia, Yhdessä johtajina demokratian ja kansallisen menestyksen puolesta: Julkisen johtamisen arvot ja periaatteet (VN 2025:27), | J16: Laki viranomaisten toiminnan julkisuudesta (621/1999) Perustuslaki (731/1999): oikeusvaltioperiaate (laillisuusperiaate) Laki julkisen hallinnon tiedonhallinnasta
C17: Viestintä Miten organisaatio viestii sidosryhmille toiminnastaan ja tuloksistaan? Miten se torjuu tahallista ja tahatonta väärän tiedon levittämistä? | I17: Avoimen hallinnon strategia | J17: Laki viranomaisten toiminnan julkisuudesta (621/1999) Hallintolaki
C18: Tietovarantojen avoimuus Miten organisaatio kehittää tietovarantojen avaamisen käytänteitä kaikkina aikoina ja normaalioloissa varautuu myös poikkeustilanteisiin? Ovatko tietovarannot saatavilla avoimessa ja koneluettavassa muodossa? Miten organisaatio huomioi tietovarantojen avaamisen suhteessa mahdolliseen poikkeavaan turvallisuustilanteeseen? | I18: Avoimen hallinnon strategia | J18: Laki viranomaisten toiminnan julkisuudesta (621/1999) Laki julkisen hallinnon tiedonhallinnasta (906/2019)
B19: Eettisyys ja korruption torjunta
C20: Korruption torjunta Miten organisaatio tunnistaa korruption ja toteuttaa valvontaa riskien hallitsemiseksi? Miten erilaisissa päätöksentekotilanteissa tunnistetaan mahdollisia sidonnaisuuksia ja eturistiriitatilanteita? Kehittääkö organisaatio poikkihallinnollista yhteistyötä korruption torjumiseksi? | I20: Korruption vastainen strategia 2024-2027, Virkamieseettinen toimintaohje (VM 2021) | J20: Valtion virkamieslaki Rikoslaki
C21: Väärinkäytösten paljastaminen Mitä menettelyjä organisaatiolla on toteuttaa tutkinta viipymättä, riippumattomasti ja puolueettomasti? Onko väärinkäytösten paljastamiseen perustettu ilmoituskanava? | I21: Korruption vastainen strategia 2024-2027, Virkamieseettinen toimintaohje (VM 2021) | J21: Laki Euroopan unionin ja kansallisen oikeuden rikkomisesta ilmoittavien henkilöiden suojelusta (1171/2022) ja ns. Whistleblower-direktiivi (EU) 2019/1937.
C22: Ilmoittajan suojelu ja tietoisuuden lisääminen Kuinka organisaatio suojelee väärinkäytöksiä paljastaneita työntekijöitään vastatoimilta? Tarjoaako organisaatio omille työntekijöilleen tietoa ja koulutusta väärinkäytösten paljastamiseksi, lahjonnan ja korruption ehkäisemiseksi sekä tiedon ilmoituksia vastaanottavasta henkilöstä tai kanavasta? | I22: Korruption vastainen strategia 2024-2027, Virkamieseettinen toimintaohje (VM 2021) | J22: Laki Euroopan unionin ja kansallisen oikeuden rikkomisesta ilmoittavien henkilöiden suojelusta (1171/2022) ja ns. Whistleblower-direktiivi (EU) 2019/1937.
B23: Hankinnan toteutus ja sopimusseuranta
C24: Hankintaprosessi Miten organisaatio hoitaa hankintaprosessiaan, johon kuuluu syrjimättömyys ja oikeudenmukainen toiminta toimittajia kohtaan? | J24: Hankintalaki
C25: Hankintoihin liittyvät riskit Miten organisaatiossa on tunnistettu hankintakategorioita tai maita, joihin liittyy riskejä esimerkiksi ympäristön tai ihmisoikeuksien kannalta? Miten riskejä on hallittu? | I25: Kansallinen julkisten hankintojen strategia, Julkisten hankintojen ekologiset tavoitteet (valmistelussa), Opas työperäisen hyväksikäytön ehkäisemisestä julkisissa hankinnoissa, Vastuullisuuden vähimmäisvelvoitteet Code of Conduct (Valtioneuvosto) | J25: Hankintalaki
C26: Hankintakriteerit ja sopimusseuranta Miten organisaatio ottaa huomioon yhteiskunnalliset ja ympäristölliset kriteerit, kun se valitsee toimittajiaan? Tehdäänkö sopimuskauden aikana hankinnassa määriteltyjä toimia, esimerkiksi auditointeja tai laadunvarmistusta? | I26: Kansallinen julkisten hankintojen strategia, Julkisten hankintojen ekologiset tavoitteet (valmistelussa), Opas työperäisen hyväksikäytön ehkäisemisestä julkisissa hankinnoissa, Vastuullisuuden vähimmäisvelvoitteet Code of Conduct (Valtioneuvosto) | J26: Hankintalaki
B27: Eläinten hyvinvointi
C28: Eläinten hyvinvointi Mikäli organisaatiolla on omia eläimiä, onko organisaatiolla eläinten hyvinvointia koskevia toimintaperiaatteita? | J28: Laki eläinten hyvinvoinnista, Valtioneuvoston asetus koirien, kissojen ja muiden pienikokoisten seura- ja harrastuseläinten suojelusta

Sheet Hallinto jne. matriisi
C1: Ma
C2: Tulosmatriisi: Hallinto ja johtaminen
C3: Olennaisuuden ja kypsyyden täytön jälkeen aihealueet sijoittuvat tulosmatriisiin automaattisesti | K3: Tulosmatriisin tulkinnassa auttava kysymysmatriisi
B6: 4 | C6: {=CHAR(10)&_xlfn.TEXTJOIN(","&CHAR(10),TRUE, _xlfn._xlws.FILTER('Hallinto ja johtaminen'!$B$3:$B$28, ('Hallinto ja johtaminen'!$A$3:$A$28=C$10)*('Hallinto ja johtaminen'!$H$3:$H$28=$B6),""))} | D6: {=CHAR(10)&_xlfn.TEXTJOIN(","&CHAR(10),TRUE, _xlfn._xlws.FILTER('Hallinto ja johtaminen'!$B$3:$B$28, ('Hallinto ja johtaminen'!$A$3:$A$28=D$10)*('Hallinto ja johtaminen'!$H$3:$H$28=$B6),""))} | E6: {=CHAR(10)&_xlfn.TEXTJOIN(","&CHAR(10),TRUE,_xlfn._xlws.FILTER('Hallinto ja johtaminen'!$B$3:$B$28,('Hallinto ja johtaminen'!$A$3:$A$28=E$10)*('Hallinto ja johtaminen'!$H$3:$H$28=$B6),""))} | F6: {=CHAR(10)&_xlfn.TEXTJOIN(","&CHAR(10),TRUE, _xlfn._xlws.FILTER('Hallinto ja johtaminen'!$B$3:$B$28, ('Hallinto ja johtaminen'!$A$3:$A$28=F$10)*('Hallinto ja johtaminen'!$H$3:$H$28=$B6),""))} | J6: 4 | K6: Voiko tähän aihealueeseen käytettyjä toimintatapoja/-menetelmiä monistaa niihin teemoihin, jotka ovat olennaisempia toiminnan kannalta? Mikä selittää aihealueen korkeaa kypsyysastetta? Voiko aihealueeseen käytettyjä resursseja hyödyntää niihin aiheisiin, jotka ovat toiminnan kannalta olennaisempia? | L6: Voiko tähän aihealueeseen käytettyjä toimintatapoja/-menetelmiä monistaa niihin teemoihin, jotka ovat olennaisempia toiminnan kannalta? Mikä selittää aihealueen korkeaa kypsyysastetta? Mitä on opittu tämän aihealueen parissa tehdyn työn perusteella? | M6: Miten tehtyä työtä aiotaan ylläpitää? Miten työtä seurataan jatkossakin? | N6: Miten tehtyä työtä aiotaan ylläpitää? Miten työtä seurataan jatkossakin? Miten työtä kehitetään tulevaisuudessa, jotta kypsyystaso pysyy edelleen korkealla? Kenellä on päävastuu työn ylläpitämisessä ja seuraamisessa?
A7: Kypsyys | B7: 3 | C7: {=CHAR(10)&_xlfn.TEXTJOIN(","&CHAR(10),TRUE, _xlfn._xlws.FILTER('Hallinto ja johtaminen'!$B$3:$B$28, ('Hallinto ja johtaminen'!$A$3:$A$28=C$10)*('Hallinto ja johtaminen'!$H$3:$H$28=$B7),""))} | D7: {=CHAR(10)&_xlfn.TEXTJOIN(","&CHAR(10),TRUE, _xlfn._xlws.FILTER('Hallinto ja johtaminen'!$B$3:$B$28, ('Hallinto ja johtaminen'!$A$3:$A$28=D$10)*('Hallinto ja johtaminen'!$H$3:$H$28=$B7),""))} | E7: {=CHAR(10)&_xlfn.TEXTJOIN(","&CHAR(10),TRUE, _xlfn._xlws.FILTER('Hallinto ja johtaminen'!$B$3:$B$28, ('Hallinto ja johtaminen'!$A$3:$A$28=E$10)*('Hallinto ja johtaminen'!$H$3:$H$28=$B7),""))} | F7: {=CHAR(10)&_xlfn.TEXTJOIN(","&CHAR(10),TRUE, _xlfn._xlws.FILTER('Hallinto ja johtaminen'!$B$3:$B$28, ('Hallinto ja johtaminen'!$A$3:$A$28=F$10)*('Hallinto ja johtaminen'!$H$3:$H$28=$B7),""))} | I7: Kypsyys | J7: 3 | K7: Mikä selittää aihealueen korkeaa kypsyysastetta? | L7: Tämä aihealue on työnne kannalta suhteellisen tärkeä, ja se on huomioitu kiitettävällä tasolla toiminnassanne. Kannustamme ylläpitämään tehtyä työtä, mutta myös pohtimaan, voisiko aihealueeseen käytettyjä resursseja hyödyntää olennaisempiin teemoihin. | M7: Työnne on tämän aihealueen osalta todennäköisesti hyvällä mallilla. Oletteko tunnistaneet jonkin kehitettävissä olevan kokonaisuuden, joka voisi nostaa kypsyyden tasoa? Tällaiseen voisi mahdollisuuksien ja resurssien puitteissa tarttua. | N7: Mitä asioita aihealueen eteen on jo tehty? Miten kunnianhimon tasoa voisi nostaa? Mitä aihealueen osalta voisi tavoitella tulevaisuudessa? Keiden kanssa voisi tehdä yhteistyötä aihealueen laajempaa huomiointia ajatellen?
B8: 2 | C8: {=CHAR(10)&_xlfn.TEXTJOIN(","&CHAR(10),TRUE, _xlfn._xlws.FILTER('Hallinto ja johtaminen'!$B$3:$B$28, ('Hallinto ja johtaminen'!$A$3:$A$28=C$10)*('Hallinto ja johtaminen'!$H$3:$H$28=$B8),""))} | D8: {=CHAR(10)&_xlfn.TEXTJOIN(","&CHAR(10),TRUE, _xlfn._xlws.FILTER('Hallinto ja johtaminen'!$B$3:$B$28, ('Hallinto ja johtaminen'!$A$3:$A$28=D$10)*('Hallinto ja johtaminen'!$H$3:$H$28=$B8),""))} | E8: {=CHAR(10)&_xlfn.TEXTJOIN(","&CHAR(10),TRUE, _xlfn._xlws.FILTER('Hallinto ja johtaminen'!$B$3:$B$28, ('Hallinto ja johtaminen'!$A$3:$A$28=E$10)*('Hallinto ja johtaminen'!$H$3:$H$28=$B8),""))} | F8: {=CHAR(10)&_xlfn.TEXTJOIN(","&CHAR(10),TRUE, _xlfn._xlws.FILTER('Hallinto ja johtaminen'!$B$3:$B$28, ('Hallinto ja johtaminen'!$A$3:$A$28=F$10)*('Hallinto ja johtaminen'!$H$3:$H$28=$B8),""))} | J8: 2 | K8: Tämä aihealue ei ole työnne kannalta todennäköisesti kovin keskeinen. Kannustamme keskittämään resursseja toisiin osa-alueisiin. Jos tulevaisuudessa aihealueesta tulisikin olennaisempi (esimerkiksi toimintaympäristön muutoksen myötä), on syytä arvioida tilannetta uudelleen. | L8: Tämä aihealue on työnne kannalta suhteellisen tärkeä, ja se on huomioitu hyvällä tasolla toiminnassanne. Kannustamme ylläpitämään tehtyä työtä, ja samanaikaisesti kääntämään katsetta yhä olennaisempiin teemoihin. | M8: Mitä asioita aihealueen eteen on jo tehty? Oletteko tunnistaneet asioita, jotka voisivat toteutuessaan nostaa kypsyystasoa? Voiko näitä asioita edistää? Kenen työhön osa-alue erityisesti vaikuttaa? Näihin teemoihin kannattaa tarttua sen jälkeen, kun olennaisuudeltaan neljännen tason aihealueet on käyty läpi. Vaihtoehtoisesti kolmannen ja neljännen tason aihealueita voi käydä rinnakkain läpi, mikäli vastuuhenkilöt ovat eri tai on muutoin perusteltu syy panostaa molempiin samanaikaisesti. | N8: Mitä asioita aihealueen eteen on jo tehty? Missä yhteyksissä/tehtävissä aihealuetta olisi edistettävä, jotta kypsyystasoa voitaisiin kasvattaa? Millaisissa yhteyksissä aihealuetta ei ole vielä huomioitu lainkaan? Millaisia haasteita tai esteitä aihealueen huomioimiseksi ja edistämiseksi tunnistatte? Voiko niihin vaikuttaa?
B9: 1 | C9: {=CHAR(10)&_xlfn.TEXTJOIN(","&CHAR(10),TRUE, _xlfn._xlws.FILTER('Hallinto ja johtaminen'!$B$3:$B$28, ('Hallinto ja johtaminen'!$A$3:$A$28=C$10)*('Hallinto ja johtaminen'!$H$3:$H$28=$B9),""))} | D9: {=CHAR(10)&_xlfn.TEXTJOIN(","&CHAR(10),TRUE, _xlfn._xlws.FILTER('Hallinto ja johtaminen'!$B$3:$B$28, ('Hallinto ja johtaminen'!$A$3:$A$28=D$10)*('Hallinto ja johtaminen'!$H$3:$H$28=$B9),""))} | E9: {=CHAR(10)&_xlfn.TEXTJOIN(","&CHAR(10),TRUE, _xlfn._xlws.FILTER('Hallinto ja johtaminen'!$B$3:$B$28, ('Hallinto ja johtaminen'!$A$3:$A$28=E$10)*('Hallinto ja johtaminen'!$H$3:$H$28=$B9),""))} | F9: {=CHAR(10)&_xlfn.TEXTJOIN(","&CHAR(10),TRUE, _xlfn._xlws.FILTER('Hallinto ja johtaminen'!$B$3:$B$28, ('Hallinto ja johtaminen'!$A$3:$A$28=F$10)*('Hallinto ja johtaminen'!$H$3:$H$28=$B9),""))} | J9: 1 | K9: Tämä aihealue ei ole työnne kannalta todennäköisesti kovin keskeinen. Kannustamme keskittämään resursseja toisiin osa-alueisiin. Jos tulevaisuudessa aihealueesta tulisikin olennaisempi (esimerkiksi toimintaympäristön muutoksen myötä), on syytä arvioida tilannetta uudelleen. | L9: Kenen kannalta aihealue on olennainen organisaatiossanne? Ovatko aihealueen parissa työskentelevät tietoisia siitä, että aihetta olisi tärkeää edistää ja viedä toiminnassa eteenpäin? Tunnistatteko syitä sille, miksi kypsyystaso on vielä matala? | M9: Minkä vuoksi tätä aihealuetta ei ole vielä juurikaan edistetty? Mistä johtuu, että toiminnan kannalta olennainen asia on jäänyt huomioimatta? Pystyttekö tunnistamaan esteitä/haasteita sille, miksi aihealuetta ei ole vielä edistetty? Näihin teemoihin kannattaa tarttua sen jälkeen, kun olennaisuudeltaan neljännen tason aihealueet on käyty läpi. Vaihtoehtoisesti kolmannen ja neljännen tason aihealueita voi käydä rinnakkain läpi, mikäli vastuuhenkilöt ovat eri tai on muutoin perusteltu syy panostaa molempiin samanaikaisesti. | N9: Minkä vuoksi tätä aihealuetta ei ole vielä juurikaan edistetty? Mistä johtuu, että toiminnan kannalta erittäin olennainen asia on jäänyt huomioimatta? Pystyttekö tunnistamaan esteitä/haasteita sille, miksi aihealuetta ei ole edistetty? Aihealueen edistämiseksi voisi kartoittaa tärkeät vastuuhenkilöt/-tahot, aiheen kytköksen organisaation toiminnan vaikuttavuuteen, keskeiset sidosryhmät ja yhteyden organisaation ydintoimintaan. Mitä voisi tehdä aiheen huomioimiseksi tulevaisuudessa?
C10: 1 | D10: 2 | E10: 3 | F10: 4 | K10: 1 | L10: 2 | M10: 3 | N10: 4
D11: Olennaisuus | L11: Olennaisuus

Sheet Työntekijät ja sidosryhmät
B1: Työntekijät ja sidosryhmät | D1: Toimintaperiaatteet aiheeseen liittyen
A2: Olennaisuus | B2: Aihealue | C2: Kypsyysarvioinnin apukysymykset | D2: Omat linjaukset, asetetut tavoitteet | E2: Toimenpiteet | F2: Mittarit | G2: Muistiinpanot | H2: Kypsyys | I2: Konserniohjaus, strategiat yms. | J2: Lakiperusta
B3: Omien työntekijöiden työolot
C4: Virkaehto-/työsopimukset sekä työaika Kuinka organisaatio on huomioinut oman työvoimansa virkaehto-/työsopimuksiin ja työaikaan liittyviä seikkoja? | J4: Virkaehtosopimuslaki
C5: Yhteistoiminta ja järjestäytymismahdollisuudet Kuinka organisaatio on huomioinut oman työvoimansa yhteistoimintaan ja järjestäytymismahdollisuuksiin liittyviä seikkoja? | J5: Yhteistoimintalaki Yleinen tietosuoja-asetus
C6: Työ- ja yksityiselämän tasapaino, työterveys ja -turvallisuus Kuinka organisaatio on huomioinut oman työvoimansa työ- ja yksityiselämän tasapainoon ja työterveyteen ja -turvallisuuteen liittyviä seikkoja? | I6: Valtion henkilöstöstrategia 2030, Valtion etätyölinjaus, Valtion kiinteistöstrategia, Valtion toimitilastrategia | J6: Työturvallisuuslaki, Työterveyshuoltolaki, Kemikaalilaki, Valtioneuvoston asetus kemiallisista tekijöistä työssä, Laki vaarallisten kemikaalien ja räjähteiden käsittelyn turvallisuudesta,
B7: Omat työntekijät: Tasa-arvo ja yhdenvertaisuus ja muut työhön liittyvät oikeudet
C8: Yhdenvertainen kohtelu ja yhtäläiset mahdollisuudet Kuinka organisaatio on huomioinut oman työvoimansa yhdenvertaisen kohtelun ja yhtäläiset mahdollisuudet? Miten eri työntekijöiden tarpeet huomioidaan myös organisaation sisällä? | I8: Hallituksen tasa-arvo-ohjelma 2024-2027, Valtion henkilöstöstrategia 2030, Kestävän kehityksen toimikunnan strategia 2022–2030 | J8: Yhdenvertaisuuslaki Tasa-arvolaki
C9: Muut työhön liittyvät oikeudet Kuinka organisaatio on huomioinut muut työhön liittyvät oikeudet? Onko organisaatio tehnyt toimia esimerkiksi seuraavien seikkojen huomioimiseksi: yksityisyyden suoja työelämässä ja asianmukaiset asuinolot? | J9: Laki yksityisyyden suojasta työelämässä Yleinen tietosuoja-asetus
B10: Arvoketjun työntekijät
C11: Työolot Kuinka organisaatio on huomioinut arvoketjun työntekijöiden osalta työoloihin liittyviä seikkoja? Miten organisaatio on tunnistanut ja hallinnut arvoketjuun liittyviä ihmisoikeus- ja työoikeusriskejä kotimaassa sekä ulkomailla? | I11: Opas työperäisen hyväksikäytön ehkäisemisestä julkisissa hankinnoissa, Vastuullisuuden vähimmäisvelvoitteet Code of Conduct (Valtioneuvosto) | J11: Työturvallisuuslaki, Työterveyshuoltolaki, Kemikaalilaki, Valtioneuvoston asetus kemiallisista tekijöistä työssä, Laki vaarallisten kemikaalien ja räjähteiden käsittelyn turvallisuudesta
C12: Yhdenvertainen kohtelu ja yhtäläiset mahdollisuudet Kuinka organisaatio on huomioinut yhdenvertaisen kohtelun ja yhtäläiset mahdollisuudet arvoketjun työntekijöiden osalta? | I12: Hallituksen tasa-arvo-ohjelma 2024-2027, Valtion henkilöstöstrategia 2030, Opas työperäisen hyväksikäytön ehkäisemisestä julkisissa hankinnoissa, Vastuullisuuden vähimmäisvelvoitteet Code of Conduct (Valtioneuvosto) | J12: Yhdenvertaisuuslaki, Tasa-arvolaki
C13: Muut työhön liittyvät oikeudet Mitä toimia organisaatio on tehnyt muihin kuin edellä mainittuihin työhön liittyvien oikeuksien huomioimiseksi arvoketjun työntekijöiden osalta? Miten organisaatio on tunnistanut ja hallinnut arvoketjuun liittyviä muita työhön liittyviä riskejä kotimaassa sekä ulkomailla? | J13: Laki yksityisyyden suojasta työelämässä, Yleinen tietosuoja-asetus
B14: Asiakkaat ja sidosryhmät: tiedot ja turvallisuus
C15: Asiakkaisiin ja sidosryhmiin kohdistuvat tietoihin liittyvät vaikutukset Miten organisaatio ottaa huomioon palveluiden hyvän saatavuuden ja viestii niistä? Miten otetaan huomioon tietoturvan ja tietosuojan vaatimukset sekä valitusmahdollisuudet? | I15: Avoimen hallinnon strategia | J15: Tietosuojalaki, Yleinen tietosuoja-asetus, Laki valtion palveluiden saatavuuden ja toimintojen sijoittamisen perusteista, Laki julkisen hallinnon tiedonhallinnasta
C16: Asiakkaiden ja sidosryhmien henkilökohtainen turvallisuus Miten organisaatio ottaa huomioon asiakkaiden ja muiden sidosryhmien henkilökohtaisen turvallisuuden? | J16: Tietosuojalaki, Yleinen tietosuoja-asetus
B17: Asiakkaat ja sidosryhmät: poliittinen vuorovaikutus ja muut vaikutukset
C18: Poliittinen vaikuttaminen ja lobbaustoiminta Tunnistetaanko organisaatioon kohdistuva lobbaus? Mitkä ovat organisaation oman poliittisen vaikuttamisen kohderyhmät ja pääaiheet? Mitä toimintalinjauksia poliittiseen vaikuttamiseen tai lobbaukseen liittyy? | I18: Korruption vastainen strategia 2025-2027 Valtiohallinnon ohje ulkopuolisten tahojen kustantamista matkoista, Virkamieseettinen toimintaohje | J18: Valtion virkamieslaki Rikoslaki
C19: Muut asiakkaisiin ja loppukäyttäjiin kohdistuvat vaikutukset Miten organisaatio ottaa huomioon muut oman toiminnan vaikutukset (pois lukien tietosuojaan ja -turvaan liittyvät vaikutukset) asiakkaisiin ja loppukäyttäjiin? | J19: Laki valtion vahingonkorvaustoiminnasta Vahingonkorvauslaki

Sheet Työntekijät jne. matriisi
C1: Toiminto
C2: Tulosmatriisi: Työntekijät ja sidosryhmät
C3: Olennaisuuden ja kypsyyden täytön jälkeen aihealueet sijoittuvat tulosmatriisiin automaattisesti | L3: Tulosmatriisin tulkinnassa auttava kysymysmatriisi
B5: 4 | C5: {=CHAR(10)&_xlfn.TEXTJOIN(","&CHAR(10),TRUE, _xlfn._xlws.FILTER('Työntekijät ja sidosryhmät'!$B$3:$B$19, ('Työntekijät ja sidosryhmät'!$A$3:$A$19=C$9)*('Työntekijät ja sidosryhmät'!$H$3:$H$19=$B5),""))} | D5: {=CHAR(10)&_xlfn.TEXTJOIN(","&CHAR(10),TRUE, _xlfn._xlws.FILTER('Työntekijät ja sidosryhmät'!$B$3:$B$19, ('Työntekijät ja sidosryhmät'!$A$3:$A$19=D$9)*('Työntekijät ja sidosryhmät'!$H$3:$H$19=$B5),""))} | E5: {=CHAR(10)&_xlfn.TEXTJOIN(","&CHAR(10),TRUE, _xlfn._xlws.FILTER('Työntekijät ja sidosryhmät'!$B$3:$B$19, ('Työntekijät ja sidosryhmät'!$A$3:$A$19=E$9)*('Työntekijät ja sidosryhmät'!$H$3:$H$19=$B5),""))} | F5: {=CHAR(10)&_xlfn.TEXTJOIN(","&CHAR(10),TRUE, _xlfn._xlws.FILTER('Työntekijät ja sidosryhmät'!$B$3:$B$19, ('Työntekijät ja sidosryhmät'!$A$3:$A$19=F$9)*('Työntekijät ja sidosryhmät'!$H$3:$H$19=$B5),""))} | K5: 4 | L5: Voiko tähän aihealueeseen käytettyjä toimintatapoja/-menetelmiä monistaa niihin teemoihin, jotka ovat olennaisempia toiminnan kannalta? Mikä selittää aihealueen korkeaa kypsyysastetta? Voiko aihealueeseen käytettyjä resursseja hyödyntää niihin aiheisiin, jotka ovat toiminnan kannalta olennaisempia? | M5: Voiko tähän aihealueeseen käytettyjä toimintatapoja/-menetelmiä monistaa niihin teemoihin, jotka ovat olennaisempia toiminnan kannalta? Mikä selittää aihealueen korkeaa kypsyysastetta? Mitä on opittu tämän aihealueen parissa tehdyn työn perusteella? | N5: Miten tehtyä työtä aiotaan ylläpitää? Miten työtä seurataan jatkossakin? | O5: Miten tehtyä työtä aiotaan ylläpitää? Miten työtä seurataan jatkossakin? Miten työtä kehitetään tulevaisuudessa, jotta kypsyystaso pysyy edelleen korkealla? Kenellä on päävastuu työn ylläpitämisessä ja seuraamisessa?
A6: Kypsyys | B6: 3 | C6: {=CHAR(10)&_xlfn.TEXTJOIN(","&CHAR(10),TRUE, _xlfn._xlws.FILTER('Työntekijät ja sidosryhmät'!$B$3:$B$19, ('Työntekijät ja sidosryhmät'!$A$3:$A$19=C$9)*('Työntekijät ja sidosryhmät'!$H$3:$H$19=$B6),""))} | D6: {=CHAR(10)&_xlfn.TEXTJOIN(","&CHAR(10),TRUE, _xlfn._xlws.FILTER('Työntekijät ja sidosryhmät'!$B$3:$B$19, ('Työntekijät ja sidosryhmät'!$A$3:$A$19=D$9)*('Työntekijät ja sidosryhmät'!$H$3:$H$19=$B6),""))} | E6: {=CHAR(10)&_xlfn.TEXTJOIN(","&CHAR(10),TRUE, _xlfn._xlws.FILTER('Työntekijät ja sidosryhmät'!$B$3:$B$19, ('Työntekijät ja sidosryhmät'!$A$3:$A$19=E$9)*('Työntekijät ja sidosryhmät'!$H$3:$H$19=$B6),""))} | F6: {=CHAR(10)&_xlfn.TEXTJOIN(","&CHAR(10),TRUE, _xlfn._xlws.FILTER('Työntekijät ja sidosryhmät'!$B$3:$B$19, ('Työntekijät ja sidosryhmät'!$A$3:$A$19=F$9)*('Työntekijät ja sidosryhmät'!$H$3:$H$19=$B6),""))} | J6: Kypsyys | K6: 3 | L6: Mikä selittää aihealueen korkeaa kypsyysastetta? | M6: Tämä aihealue on työnne kannalta suhteellisen tärkeä, ja se on huomioitu kiitettävällä tasolla toiminnassanne. Kannustamme ylläpitämään tehtyä työtä, mutta myös pohtimaan, voisiko aihealueeseen käytettyjä resursseja hyödyntää olennaisempiin teemoihin. | N6: Työnne on tämän aihealueen osalta todennäköisesti hyvällä mallilla. Oletteko tunnistaneet jonkin kehitettävissä olevan kokonaisuuden, joka voisi nostaa kypsyyden tasoa? Tällaiseen voisi mahdollisuuksien ja resurssien puitteissa tarttua. | O6: Mitä asioita aihealueen eteen on jo tehty? Miten kunnianhimon tasoa voisi nostaa? Mitä aihealueen osalta voisi tavoitella tulevaisuudessa? Keiden kanssa voisi tehdä yhteistyötä aihealueen laajempaa huomiointia ajatellen?
B7: 2 | C7: {=CHAR(10)&_xlfn.TEXTJOIN(","&CHAR(10),TRUE, _xlfn._xlws.FILTER('Työntekijät ja sidosryhmät'!$B$3:$B$19, ('Työntekijät ja sidosryhmät'!$A$3:$A$19=C$9)*('Työntekijät ja sidosryhmät'!$H$3:$H$19=$B7),""))} | D7: {=CHAR(10)&_xlfn.TEXTJOIN(","&CHAR(10),TRUE, _xlfn._xlws.FILTER('Työntekijät ja sidosryhmät'!$B$3:$B$19, ('Työntekijät ja sidosryhmät'!$A$3:$A$19=D$9)*('Työntekijät ja sidosryhmät'!$H$3:$H$19=$B7),""))} | E7: {=CHAR(10)&_xlfn.TEXTJOIN(","&CHAR(10),TRUE, _xlfn._xlws.FILTER('Työntekijät ja sidosryhmät'!$B$3:$B$19, ('Työntekijät ja sidosryhmät'!$A$3:$A$19=E$9)*('Työntekijät ja sidosryhmät'!$H$3:$H$19=$B7),""))} | F7: {=CHAR(10)&_xlfn.TEXTJOIN(","&CHAR(10),TRUE, _xlfn._xlws.FILTER('Työntekijät ja sidosryhmät'!$B$3:$B$19, ('Työntekijät ja sidosryhmät'!$A$3:$A$19=F$9)*('Työntekijät ja sidosryhmät'!$H$3:$H$19=$B7),""))} | K7: 2 | L7: Tämä aihealue ei ole työnne kannalta todennäköisesti kovin keskeinen. Kannustamme keskittämään resursseja toisiin osa-alueisiin. Jos tulevaisuudessa aihealueesta tulisikin olennaisempi (esimerkiksi toimintaympäristön muutoksen myötä), on syytä arvioida tilannetta uudelleen. | M7: Tämä aihealue on työnne kannalta suhteellisen tärkeä, ja se on huomioitu hyvällä tasolla toiminnassanne. Kannustamme ylläpitämään tehtyä työtä, ja samanaikaisesti kääntämään katsetta yhä olennaisempiin teemoihin. | N7: Mitä asioita aihealueen eteen on jo tehty? Oletteko tunnistaneet asioita, jotka voisivat toteutuessaan nostaa kypsyystasoa? Voiko näitä asioita edistää? Kenen työhön osa-alue erityisesti vaikuttaa? Näihin teemoihin kannattaa tarttua sen jälkeen, kun olennaisuudeltaan neljännen tason aihealueet on käyty läpi. Vaihtoehtoisesti kolmannen ja neljännen tason aihealueita voi käydä rinnakkain läpi, mikäli vastuuhenkilöt ovat eri tai on muutoin perusteltu syy panostaa molempiin samanaikaisesti. | O7: Mitä asioita aihealueen eteen on jo tehty? Missä yhteyksissä/tehtävissä aihealuetta olisi edistettävä, jotta kypsyystasoa voitaisiin kasvattaa? Millaisissa yhteyksissä aihealuetta ei ole vielä huomioitu lainkaan? Millaisia haasteita tai esteitä aihealueen huomioimiseksi ja edistämiseksi tunnistatte? Voiko niihin vaikuttaa?
B8: 1 | C8: {=CHAR(10)&_xlfn.TEXTJOIN(","&CHAR(10),TRUE, _xlfn._xlws.FILTER('Työntekijät ja sidosryhmät'!$B$3:$B$19, ('Työntekijät ja sidosryhmät'!$A$3:$A$19=C$9)*('Työntekijät ja sidosryhmät'!$H$3:$H$19=$B8),""))} | D8: {=CHAR(10)&_xlfn.TEXTJOIN(","&CHAR(10),TRUE, _xlfn._xlws.FILTER('Työntekijät ja sidosryhmät'!$B$3:$B$19, ('Työntekijät ja sidosryhmät'!$A$3:$A$19=D$9)*('Työntekijät ja sidosryhmät'!$H$3:$H$19=$B8),""))} | E8: {=CHAR(10)&_xlfn.TEXTJOIN(","&CHAR(10),TRUE, _xlfn._xlws.FILTER('Työntekijät ja sidosryhmät'!$B$3:$B$19, ('Työntekijät ja sidosryhmät'!$A$3:$A$19=E$9)*('Työntekijät ja sidosryhmät'!$H$3:$H$19=$B8),""))} | F8: {=CHAR(10)&_xlfn.TEXTJOIN(","&CHAR(10),TRUE, _xlfn._xlws.FILTER('Työntekijät ja sidosryhmät'!$B$3:$B$19, ('Työntekijät ja sidosryhmät'!$A$3:$A$19=F$9)*('Työntekijät ja sidosryhmät'!$H$3:$H$19=$B8),""))} | K8: 1 | L8: Tämä aihealue ei ole työnne kannalta todennäköisesti kovin keskeinen. Kannustamme keskittämään resursseja toisiin osa-alueisiin. Jos tulevaisuudessa aihealueesta tulisikin olennaisempi (esimerkiksi toimintaympäristön muutoksen myötä), on syytä arvioida tilannetta uudelleen. | M8: Kenen kannalta aihealue on olennainen organisaatiossanne? Ovatko aihealueen parissa työskentelevät tietoisia siitä, että aihetta olisi tärkeää edistää ja viedä toiminnassa eteenpäin? Tunnistatteko syitä sille, miksi kypsyystaso on vielä matala? | N8: Minkä vuoksi tätä aihealuetta ei ole vielä juurikaan edistetty? Mistä johtuu, että toiminnan kannalta olennainen asia on jäänyt huomioimatta? Pystyttekö tunnistamaan esteitä/haasteita sille, miksi aihealuetta ei ole vielä edistetty? Näihin teemoihin kannattaa tarttua sen jälkeen, kun olennaisuudeltaan neljännen tason aihealueet on käyty läpi. Vaihtoehtoisesti kolmannen ja neljännen tason aihealueita voi käydä rinnakkain läpi, mikäli vastuuhenkilöt ovat eri tai on muutoin perusteltu syy panostaa molempiin samanaikaisesti. | O8: Minkä vuoksi tätä aihealuetta ei ole vielä juurikaan edistetty? Mistä johtuu, että toiminnan kannalta erittäin olennainen asia on jäänyt huomioimatta? Pystyttekö tunnistamaan esteitä/haasteita sille, miksi aihealuetta ei ole edistetty? Aihealueen edistämiseksi voisi kartoittaa tärkeät vastuuhenkilöt/-tahot, aiheen kytköksen organisaation toiminnan vaikuttavuuteen, keskeiset sidosryhmät ja yhteyden organisaation ydintoimintaan. Mitä voisi tehdä aiheen huomioimiseksi tulevaisuudessa?
C9: 1 | D9: 2 | E9: 3 | F9: 4 | L9: 1 | M9: 2 | N9: 3 | O9: 4
D10: Olennaisuus | M10: Olennaisuus

Sheet Luonnonvarat ja ekosysteemit
B1: Luonnonvarat ja ekosysteemit | D1: Toimintaperiaatteet aiheeseen liittyen
A2: Olennaisuus | B2: Aihealue | C2: Kypsyysarvioinnin apukysymykset | D2: Omat linjaukset, asetetut tavoitteet | E2: Toimenpiteet | F2: Mittarit | G2: Muistiinpanot | H2: Kypsyys | I2: Konserniohjaus, strategiat, yms. | J2: Lakiperusta
B3: Ilmastonmuutos
C4: Hillintä Mitä toimia organisaatio on tehnyt ilmaston lämpenemisen hillitsemiseksi 1,5 asteeseen? Miten energiahankinnoissa on otettu huomioon vähäpäästöisyys? | I4: Keskipitkän aikavälin ilmastosuunnitelma, Pitkän aikavälin ilmastosuunnitelma, Hiilineutraali Suomi 2035 – kansallinen ilmasto- ja energiastrategia, Valtion kiinteistöstrategia, Opas vastuullisiin elintarvikehankintoihin, EU:n biodiversiteettistrategia, Kansallinen metsästrategia 2035, Kestävän kehityksen toimikunnan strategia 2022–2030 | J4: Ilmastolaki, Luonnonsuojelulaki
C5: Sopeutuminen ja varautuminen Mitä toimia organisaatio on tehnyt, joilla sopeudutaan nykyiseen ja odotettavissa olevaan ilmastonmuutokseen? Miten ilmastonmuutos on otettu huomioon organisaation valmius- ja varautumissuunnitelmassa? | I5: Keskipitkän aikavälin ilmastosuunnitelma, Pitkän aikavälin ilmastosuunnitelma, Valtion kiinteistöstrategia, Opas vastuullisiin elintarvikehankintoihin, Kansallinen metsästrategia 2035 | J5: Ilmastolaki, Laki tulvariskien hallinnasta, Luonnonsuojelulaki
B6: Pilaantuminen
C7: Vesi, ilma ja maaperä Mitä organisaatiossa on tehty ilmaan, veteen tai maaperään liittyvien epäpuhtauksien ehkäisemiseksi, rajoittamiseksi tai vähentämiseksi? | I7: Kansallinen ilmansuojeluohjelma 2030, Finnish Water Way - Suomen vesialan kansainvälinen strategia | J7: Ympäristönsuojelulaki, Valtioneuvoston asetus ympäristönsuojelusta, Luonnonsuojelulaki, Jätelaki, Valtioneuvoston asetus jätteistä, Kemikaalilaki, REACH-asetus, Valtioneuvoston asetus vaarallisten kemikaalien käsittelyn ja varastoinnin valvonnasta, Valtioneuvoston päätös otsonikerrosta heikentävistä aineista
C8: Mikromuovi Miten organisaatiossa on otettu huomioon ja mitä toimia on tehty mikromuovin syntymisen, käyttämisen ja luontoon tai organismeihin päätymisen ehkäisemiseksi ja rajaamiseksi? | J8: Ympäristönsuojelulaki, Valtioneuvoston asetus ympäristönsuojelusta, Jätelaki, Valtioneuvoston asetus jätteistä, Valtioneuvoston asetus eräistä muovituotteista
B9: Vesivarat ja merten luonnonvarat
C10: Vesivarat ja merten luonnonvarat Mitä toimia on tehty vesivaroihin kohdistuvien kielteisten vaikutusten ehkäisemiseksi tai lieventämiseksi? Mitä toimia on tehty vesivarojen ja merten luonnonvarojen suojelemiseksi, myös vedenkulutuksen vähentämisen osalta? | I10: Opas vastuullisiin elintarvikehankintoihin, Suomen kansallinen biotalousstrategia 2022–2035, Kestävän kehityksen toimikunnan strategia 2022–2030 | J10: Ympäristönsuojelulaki, Valtioneuvoston asetus ympäristönsuojelusta, Kemikaalilaki, Vesilaki, Valtioneuvoston asetus vesiympäristölle vaarallisista ja haitallisista aineista, Laki vesienhoidon ja merenhoidon järjestämisestä
B11: Biologinen monimuotoisuus ja ekosysteemit
C12: Luonnon monimuotoisuus Mitä toimia organisaatio on tehnyt monimuotoisuuden heikentymisen ehkäisemiseksi tai suojelemiseksi? Mitä toimia organisaatio on tehnyt lajien tilan parantamiseksi, tai tilan huononemisen ehkäisemiseksi? Mitä toimia organisaatio on tehnyt ekosysteemien laajuuden ja tilan huononemisen ehkäisemiseksi, vähentämiseksi tai suojelemiseksi? | I12: Kansallinen luonnon monimuotoisuusstrategia (valmistelussa), Valtion kiinteistöstrategia, Opas vastuullisiin elintarvikehankintoihin, EU:n biodiversiteettistrategia, YK:n biodiversiteettisopimus, Kansallinen metsästrategia 2035, Suomen kansallinen biotalousstrategia 2022–2035, Kestävän kehityksen toimikunnan strategia 2022–2030 | J12: Perustuslaki, Luonnonsuojelulaki, Maankäyttö- ja rakennuslaki, Metsälaki
C13: Ekosysteemipalvelut Mitä toimia organisaatio on tehnyt ekosysteemipalveluiden heikkenemisen ehkäisemiseksi tai suojelemiseksi? | I13: EU:n biodiversiteettistrategia, Kansallinen metsästrategia 2035, YK:n biodiversiteettisopimus, Suomen kansallinen biotalousstrategia 2022–2035, Kestävän kehityksen toimikunnan strategia 2022–2030 | J13: Perustuslaki, Ympäristönsuojelulaki, Maankäyttö- ja rakennuslaki, Metsälaki
B14: Kiertotalous
C15: Materiaalin käyttö Mitä tavoitteita ja toimia organisaatiolla on, joilla ehkäistään tai lievennetään materiaalin käytöstä aiheutuvia kielteisiä vaikutuksia? | I15: Kiertotalouden strateginen ohjelma, Kestävän kehityksen toimikunnan strategia 2022–2030 | J15: Jätelaki, Maankäyttö- ja rakennusasetus
C16: Tuotteet ja palvelut Mitä tavoitteita ja toimia organisaatiolla on, joilla ehkäistään tai lievennetään resurssien käytöstä aiheutuvia kielteisiä vaikutuksia? | I16: Kiertotalouden strateginen ohjelma, Kestävän kehityksen toimikunnan strategia 2022–2030 | J16: Jätelaki, Maankäyttö- ja rakennusasetus
C17: Jäte Kuinka jätehierarkia otetaan huomioon organisaation omassa toiminnassa ja hankinnoissa? Jätehierarkiassa noudatetaan seuraavaa järjestystä: 1. Ennaltaehkäistään tai minimoidaan jätteen synty. 2. Syntynyt jäte uudelleenkäytetään. 3. Syntynyt jäte kierrätetään. 4. Syntynyt jäte hyödynnetään energiana. 5. Syntynyt jäte loppusijoitetaan. Ota huomioon myös vaarallisten jätteiden oikeaoppinen hävitys. | I17: Kiertotalouden strateginen ohjelma, Valtakunnallinen jätesuunnitelma vuoteen 2027 | J17: Jätelaki, Valtioneuvoston asetus jätteistä

Sheet Luonnonvarat jne. matriisi
C1: Toiminto
C2: Tulosmatriisi: Luonnonvarat ja ekosysteemit
C3: Olennaisuuden ja kypsyyden täytön jälkeen aihealueet sijoittuvat tulosmatriisiin automaattisesti | K3: Tulosmatriisin tulkinnassa auttava kysymysmatriisi
B6: 4 | C6: {=CHAR(10)&_xlfn.TEXTJOIN(","&CHAR(10),TRUE, _xlfn._xlws.FILTER('Luonnonvarat ja ekosysteemit'!$B$3:$B$14, ('Luonnonvarat ja ekosysteemit'!$A$3:$A$14=C$10)*('Luonnonvarat ja ekosysteemit'!$H$3:$H$14=$B6),""))} | D6: {=CHAR(10)&_xlfn.TEXTJOIN(","&CHAR(10),TRUE, _xlfn._xlws.FILTER('Luonnonvarat ja ekosysteemit'!$B$3:$B$14, ('Luonnonvarat ja ekosysteemit'!$A$3:$A$14=D$10)*('Luonnonvarat ja ekosysteemit'!$H$3:$H$14=$B6),""))} | E6: {=CHAR(10)&_xlfn.TEXTJOIN(","&CHAR(10),TRUE, _xlfn._xlws.FILTER('Luonnonvarat ja ekosysteemit'!$B$3:$B$14, ('Luonnonvarat ja ekosysteemit'!$A$3:$A$14=E$10)*('Luonnonvarat ja ekosysteemit'!$H$3:$H$14=$B6),""))} | F6: {=CHAR(10)&_xlfn.TEXTJOIN(","&CHAR(10),TRUE, _xlfn._xlws.FILTER('Luonnonvarat ja ekosysteemit'!$B$3:$B$14, ('Luonnonvarat ja ekosysteemit'!$A$3:$A$14=F$10)*('Luonnonvarat ja ekosysteemit'!$H$3:$H$14=$B6),""))} | J6: 4 | K6: Voiko tähän aihealueeseen käytettyjä toimintatapoja/-menetelmiä monistaa niihin teemoihin, jotka ovat olennaisempia toiminnan kannalta? Mikä selittää aihealueen korkeaa kypsyysastetta? Voiko aihealueeseen käytettyjä resursseja hyödyntää niihin aiheisiin, jotka ovat toiminnan kannalta olennaisempia? | L6: Voiko tähän aihealueeseen käytettyjä toimintatapoja/-menetelmiä monistaa niihin teemoihin, jotka ovat olennaisempia toiminnan kannalta? Mikä selittää aihealueen korkeaa kypsyysastetta? Mitä on opittu tämän aihealueen parissa tehdyn työn perusteella? | M6: Miten tehtyä työtä aiotaan ylläpitää? Miten työtä seurataan jatkossakin? | N6: Miten tehtyä työtä aiotaan ylläpitää? Miten työtä seurataan jatkossakin? Miten työtä kehitetään tulevaisuudessa, jotta kypsyystaso pysyy edelleen korkealla? Kenellä on päävastuu työn ylläpitämisessä ja seuraamisessa?
A7: Kypsyys | B7: 3 | C7: {=CHAR(10)&_xlfn.TEXTJOIN(","&CHAR(10),TRUE, _xlfn._xlws.FILTER('Luonnonvarat ja ekosysteemit'!$B$3:$B$14, ('Luonnonvarat ja ekosysteemit'!$A$3:$A$14=C$10)*('Luonnonvarat ja ekosysteemit'!$H$3:$H$14=$B7),""))} | D7: {=CHAR(10)&_xlfn.TEXTJOIN(","&CHAR(10),TRUE, _xlfn._xlws.FILTER('Luonnonvarat ja ekosysteemit'!$B$3:$B$14, ('Luonnonvarat ja ekosysteemit'!$A$3:$A$14=D$10)*('Luonnonvarat ja ekosysteemit'!$H$3:$H$14=$B7),""))} | E7: {=CHAR(10)&_xlfn.TEXTJOIN(","&CHAR(10),TRUE, _xlfn._xlws.FILTER('Luonnonvarat ja ekosysteemit'!$B$3:$B$14, ('Luonnonvarat ja ekosysteemit'!$A$3:$A$14=E$10)*('Luonnonvarat ja ekosysteemit'!$H$3:$H$14=$B7),""))} | F7: {=CHAR(10)&_xlfn.TEXTJOIN(","&CHAR(10),TRUE, _xlfn._xlws.FILTER('Luonnonvarat ja ekosysteemit'!$B$3:$B$14, ('Luonnonvarat ja ekosysteemit'!$A$3:$A$14=F$10)*('Luonnonvarat ja ekosysteemit'!$H$3:$H$14=$B7),""))} | I7: Kypsyys | J7: 3 | K7: Mikä selittää aihealueen korkeaa kypsyysastetta? | L7: Tämä aihealue on työnne kannalta suhteellisen tärkeä, ja se on huomioitu kiitettävällä tasolla toiminnassanne. Kannustamme ylläpitämään tehtyä työtä, mutta myös pohtimaan, voisiko aihealueeseen käytettyjä resursseja hyödyntää olennaisempiin teemoihin. | M7: Työnne on tämän aihealueen osalta todennäköisesti hyvällä mallilla. Oletteko tunnistaneet jonkin kehitettävissä olevan kokonaisuuden, joka voisi nostaa kypsyyden tasoa? Tällaiseen voisi mahdollisuuksien ja resurssien puitteissa tarttua. | N7: Mitä asioita aihealueen eteen on jo tehty? Miten kunnianhimon tasoa voisi nostaa? Mitä aihealueen osalta voisi tavoitella tulevaisuudessa? Keiden kanssa voisi tehdä yhteistyötä aihealueen laajempaa huomiointia ajatellen?
B8: 2 | C8: {=CHAR(10)&_xlfn.TEXTJOIN(","&CHAR(10),TRUE, _xlfn._xlws.FILTER('Luonnonvarat ja ekosysteemit'!$B$3:$B$14, ('Luonnonvarat ja ekosysteemit'!$A$3:$A$14=C$10)*('Luonnonvarat ja ekosysteemit'!$H$3:$H$14=$B8),""))} | D8: {=CHAR(10)&_xlfn.TEXTJOIN(","&CHAR(10),TRUE, _xlfn._xlws.FILTER('Luonnonvarat ja ekosysteemit'!$B$3:$B$14, ('Luonnonvarat ja ekosysteemit'!$A$3:$A$14=D$10)*('Luonnonvarat ja ekosysteemit'!$H$3:$H$14=$B8),""))} | E8: {=CHAR(10)&_xlfn.TEXTJOIN(","&CHAR(10),TRUE, _xlfn._xlws.FILTER('Luonnonvarat ja ekosysteemit'!$B$3:$B$14, ('Luonnonvarat ja ekosysteemit'!$A$3:$A$14=E$10)*('Luonnonvarat ja ekosysteemit'!$H$3:$H$14=$B8),""))} | F8: {=CHAR(10)&_xlfn.TEXTJOIN(","&CHAR(10),TRUE, _xlfn._xlws.FILTER('Luonnonvarat ja ekosysteemit'!$B$3:$B$14, ('Luonnonvarat ja ekosysteemit'!$A$3:$A$14=F$10)*('Luonnonvarat ja ekosysteemit'!$H$3:$H$14=$B8),""))} | J8: 2 | K8: Tämä aihealue ei ole työnne kannalta todennäköisesti kovin keskeinen. Kannustamme keskittämään resursseja toisiin osa-alueisiin. Jos tulevaisuudessa aihealueesta tulisikin olennaisempi (esimerkiksi toimintaympäristön muutoksen myötä), on syytä arvioida tilannetta uudelleen. | L8: Tämä aihealue on työnne kannalta suhteellisen tärkeä, ja se on huomioitu hyvällä tasolla toiminnassanne. Kannustamme ylläpitämään tehtyä työtä, ja samanaikaisesti kääntämään katsetta yhä olennaisempiin teemoihin. | M8: Mitä asioita aihealueen eteen on jo tehty? Oletteko tunnistaneet asioita, jotka voisivat toteutuessaan nostaa kypsyystasoa? Voiko näitä asioita edistää? Kenen työhön osa-alue erityisesti vaikuttaa? Näihin teemoihin kannattaa tarttua sen jälkeen, kun olennaisuudeltaan neljännen tason aihealueet on käyty läpi. Vaihtoehtoisesti kolmannen ja neljännen tason aihealueita voi käydä rinnakkain läpi, mikäli vastuuhenkilöt ovat eri tai on muutoin perusteltu syy panostaa molempiin samanaikaisesti. | N8: Mitä asioita aihealueen eteen on jo tehty? Missä yhteyksissä/tehtävissä aihealuetta olisi edistettävä, jotta kypsyystasoa voitaisiin kasvattaa? Millaisissa yhteyksissä aihealuetta ei ole vielä huomioitu lainkaan? Millaisia haasteita tai esteitä aihealueen huomioimiseksi ja edistämiseksi tunnistatte? Voiko niihin vaikuttaa?
B9: 1 | C9: {=CHAR(10)&_xlfn.TEXTJOIN(","&CHAR(10),TRUE, _xlfn._xlws.FILTER('Luonnonvarat ja ekosysteemit'!$B$3:$B$14, ('Luonnonvarat ja ekosysteemit'!$A$3:$A$14=C$10)*('Luonnonvarat ja ekosysteemit'!$H$3:$H$14=$B9),""))} | D9: {=CHAR(10)&_xlfn.TEXTJOIN(","&CHAR(10),TRUE, _xlfn._xlws.FILTER('Luonnonvarat ja ekosysteemit'!$B$3:$B$14, ('Luonnonvarat ja ekosysteemit'!$A$3:$A$14=D$10)*('Luonnonvarat ja ekosysteemit'!$H$3:$H$14=$B9),""))} | E9: {=CHAR(10)&_xlfn.TEXTJOIN(","&CHAR(10),TRUE, _xlfn._xlws.FILTER('Luonnonvarat ja ekosysteemit'!$B$3:$B$14, ('Luonnonvarat ja ekosysteemit'!$A$3:$A$14=E$10)*('Luonnonvarat ja ekosysteemit'!$H$3:$H$14=$B9),""))} | F9: {=CHAR(10)&_xlfn.TEXTJOIN(","&CHAR(10),TRUE, _xlfn._xlws.FILTER('Luonnonvarat ja ekosysteemit'!$B$3:$B$14, ('Luonnonvarat ja ekosysteemit'!$A$3:$A$14=F$10)*('Luonnonvarat ja ekosysteemit'!$H$3:$H$14=$B9),""))} | J9: 1 | K9: Tämä aihealue ei ole työnne kannalta todennäköisesti kovin keskeinen. Kannustamme keskittämään resursseja toisiin osa-alueisiin. Jos tulevaisuudessa aihealueesta tulisikin olennaisempi (esimerkiksi toimintaympäristön muutoksen myötä), on syytä arvioida tilannetta uudelleen. | L9: Kenen kannalta aihealue on olennainen organisaatiossanne? Ovatko aihealueen parissa työskentelevät tietoisia siitä, että aihetta olisi tärkeää edistää ja viedä toiminnassa eteenpäin? Tunnistatteko syitä sille, miksi kypsyystaso on vielä matala? | M9: Minkä vuoksi tätä aihealuetta ei ole vielä juurikaan edistetty? Mistä johtuu, että toiminnan kannalta olennainen asia on jäänyt huomioimatta? Pystyttekö tunnistamaan esteitä/haasteita sille, miksi aihealuetta ei ole vielä edistetty? Näihin teemoihin kannattaa tarttua sen jälkeen, kun olennaisuudeltaan neljännen tason aihealueet on käyty läpi. Vaihtoehtoisesti kolmannen ja neljännen tason aihealueita voi käydä rinnakkain läpi, mikäli vastuuhenkilöt ovat eri tai on muutoin perusteltu syy panostaa molempiin samanaikaisesti. | N9: Minkä vuoksi tätä aihealuetta ei ole vielä juurikaan edistetty? Mistä johtuu, että toiminnan kannalta erittäin olennainen asia on jäänyt huomioimatta? Pystyttekö tunnistamaan esteitä/haasteita sille, miksi aihealuetta ei ole edistetty? Aihealueen edistämiseksi voisi kartoittaa tärkeät vastuuhenkilöt/-tahot, aiheen kytköksen organisaation toiminnan vaikuttavuuteen, keskeiset sidosryhmät ja yhteyden organisaation ydintoimintaan. Mitä voisi tehdä aiheen huomioimiseksi tulevaisuudessa?
C10: 1 | D10: 2 | E10: 3 | F10: 4 | K10: 1 | L10: 2 | M10: 3 | N10: 4
D11: Olennaisuus | L11: Olennaisuus

Sheet Versiot
A1: Versiohistoria
A3: Version nimi | B3: Muokkauspäivämäärä
A4: Kestävyyden arviointityökalu | B4: 46198
